BEGIN:VCALENDAR
VERSION:2.0
PRODID:-//MSC Finland -Tom&#039;s Club - ECPv6.11.1//NONSGML v1.0//EN
CALSCALE:GREGORIAN
METHOD:PUBLISH
X-WR-CALNAME:MSC Finland -Tom&#039;s Club
X-ORIGINAL-URL:https://mscfin.fi/en/
X-WR-CALDESC:Events for MSC Finland -Tom&#039;s Club
REFRESH-INTERVAL;VALUE=DURATION:PT1H
X-Robots-Tag:noindex
X-PUBLISHED-TTL:PT1H
BEGIN:VTIMEZONE
TZID:Europe/Helsinki
BEGIN:DAYLIGHT
TZOFFSETFROM:+0200
TZOFFSETTO:+0300
TZNAME:EEST
DTSTART:20250330T010000
END:DAYLIGHT
BEGIN:STANDARD
TZOFFSETFROM:+0300
TZOFFSETTO:+0200
TZNAME:EET
DTSTART:20251026T010000
END:STANDARD
END:VTIMEZONE
BEGIN:VEVENT
DTSTART;VALUE=DATE:20250822
DTEND;VALUE=DATE:20250825
DTSTAMP:20260425T183401
CREATED:20250407T211802Z
LAST-MODIFIED:20250811T075602Z
UID:7080-1755820800-1756079999@mscfin.fi
SUMMARY:Finlandization 2025
DESCRIPTION: FRIDAY 22.8.2025 \n MSC Finland Fetish Sauna @ ClubX (Mäkelänkatu 54a 203) \n –  Welcome to enjoy an authentic Finnish sauna\, bring your own towel and bathing supplies. \n–  Only for MSC /ECMC /ToE/ -members\, only for men \n–  During the sauna\, the Club X play facilities are for use. \n–  Bring your own drinks (in moderation) \n– 19:00 – 23:00 \n – Entry: 10 eur  (we recommend card payment) \n– Registrations 20.8.  by  msc-info@mscfin.fi \n  \n SATURDAY 23.8.2025 \n MSC Fetish lunch @ Restaurant Factory Kamppi  (Runeberginkatu 3) \n – 12.30 -14.30 \n – 19\,50€ (own expense) \n – Registrations 20.8.  by msc-info@mscfin.fi \n – Fetish gear recommended \n  \n Finlandization 39  main party \n – ClubX (Mäkelänkatu 54a 203) \n – Event time: 21:00-04:00 \n – Doors: 21.00-23.00 \n – Entry: 15 eur with MSC/ToE/ECMC/ClubX  card\, 25 eur for others (we recommend card payment) \n – Only for men \n – Bring your own drinks (in moderation) \n – MSC Fetish gear mandatory \n  \n SUNDAY 24.8.2025 \n MSC Fetish Brunch \n – Restaurant Kaarti (Pohjoinen Hesperiankatu 33) \n – from 13:00 to 14:30 \n – Price 29€/person\, a glass of sparkling 5 eur\, red or white vine 6€ / 12cl at own expense \n– Fetish gear recommended \n– Registrations  20.8. by  :msc-info@mscfin.fi
URL:https://mscfin.fi/en/event/finlandization-2025/
LOCATION:Club X\, Mäkelänkatu 54a\, Helsinki\, 00510\, Finland
END:VEVENT
END:VCALENDAR