BEGIN:VCALENDAR
VERSION:2.0
PRODID:-//MSC Finland -Tom&#039;s Club - ECPv6.11.1//NONSGML v1.0//EN
CALSCALE:GREGORIAN
METHOD:PUBLISH
X-WR-CALNAME:MSC Finland -Tom&#039;s Club
X-ORIGINAL-URL:https://mscfin.fi/en/
X-WR-CALDESC:Events for MSC Finland -Tom&#039;s Club
REFRESH-INTERVAL;VALUE=DURATION:PT1H
X-Robots-Tag:noindex
X-PUBLISHED-TTL:PT1H
BEGIN:VTIMEZONE
TZID:Europe/Helsinki
BEGIN:DAYLIGHT
TZOFFSETFROM:+0200
TZOFFSETTO:+0300
TZNAME:EEST
DTSTART:20230326T010000
END:DAYLIGHT
BEGIN:STANDARD
TZOFFSETFROM:+0300
TZOFFSETTO:+0200
TZNAME:EET
DTSTART:20231029T010000
END:STANDARD
BEGIN:DAYLIGHT
TZOFFSETFROM:+0200
TZOFFSETTO:+0300
TZNAME:EEST
DTSTART:20240331T010000
END:DAYLIGHT
BEGIN:STANDARD
TZOFFSETFROM:+0300
TZOFFSETTO:+0200
TZNAME:EET
DTSTART:20241027T010000
END:STANDARD
BEGIN:DAYLIGHT
TZOFFSETFROM:+0200
TZOFFSETTO:+0300
TZNAME:EEST
DTSTART:20250330T010000
END:DAYLIGHT
BEGIN:STANDARD
TZOFFSETFROM:+0300
TZOFFSETTO:+0200
TZNAME:EET
DTSTART:20251026T010000
END:STANDARD
END:VTIMEZONE
BEGIN:VEVENT
DTSTART;TZID=Europe/Helsinki:20250607T180000
DTEND;TZID=Europe/Helsinki:20250608T040000
DTSTAMP:20260426T035226
CREATED:20250602T184105Z
LAST-MODIFIED:20250602T184105Z
UID:7126-1749319200-1749355200@mscfin.fi
SUMMARY:7.6. Wild and Responsible - a joint talk about sex and MSC Fetish Social
DESCRIPTION:7.6. Wild and Responsible – a joint talk about sex and MSC Fetish Social\, Gay nightclub Hercules\, Keskuskatu 8 Helsinki. \n6:00 PM – 8:00 PM Wild and Responsible – a joint talk about sex. Have you thought about sexual health and want more information and answers to your questions? Come listen and participate in the discussion about PrEP\, Doxipep\, sexually transmitted diseases and testing\, HIV and Kemsex. The discussion is organized together with Hivpoint and Positiivet ry. The event is supported by the Spartacus fund. The event is part of the MFF 2025 Santeri’s Mister Year community advocacy work. \n8:00 PM – MSC Fetish Social Helsinki\, hosted by MFF 2025 Santeri. We recommend dressing according to the code for MSC Fetish Social events
URL:https://mscfin.fi/en/event/7-6-wild-and-responsible-a-joint-talk-about-sex-and-msc-fetish-social/
LOCATION:Hercules\, Keskuskatu 8\, Helsinki\, Finland
END:VEVENT
BEGIN:VEVENT
DTSTART;VALUE=DATE:20230701
DTEND;VALUE=DATE:20230702
DTSTAMP:20260426T035226
CREATED:20230105T132333Z
LAST-MODIFIED:20230222T213328Z
UID:6652-1688169600-1688255999@mscfin.fi
SUMMARY:Helsinki Fetish Pride
DESCRIPTION:MSC Finland will be present at Helsinki Pride 2023 parade on 1 Jul 2023\, and there will be a Fetish Pride party in the evening at Thirsty Scholar.
URL:https://mscfin.fi/en/event/helsinki-fetish-pride/
LOCATION:Thirsty Scholar\, Fabianinkatu 37\, Helsinki\, 00100\, Finland
END:VEVENT
BEGIN:VEVENT
DTSTART;VALUE=DATE:20230527
DTEND;VALUE=DATE:20230528
DTSTAMP:20260426T035226
CREATED:20230222T212639Z
LAST-MODIFIED:20230222T212639Z
UID:6654-1685145600-1685231999@mscfin.fi
SUMMARY:May Fetish Night
DESCRIPTION:MSC Finland May fetish night will be at ClubX on Saturday 27th May 2023.
URL:https://mscfin.fi/en/event/may-fetish-night/
LOCATION:Club X\, Mäkelänkatu 54a\, Helsinki\, 00510\, Finland
END:VEVENT
BEGIN:VEVENT
DTSTART;VALUE=DATE:20230427
DTEND;VALUE=DATE:20230501
DTSTAMP:20260426T035226
CREATED:20230105T155901Z
LAST-MODIFIED:20230105T155901Z
UID:6663-1682553600-1682899199@mscfin.fi
SUMMARY:Tom of Finland Art Expo Opening Weekend
DESCRIPTION:Kiasma showcases the works and life story of one of the world’s best-known Finnish artists\, Tom of Finland. The exhibition is an unprecedentedly extensive view of the life and times of Tom of Finland. \nMSC Finland is organizing a special event weekend during the opening weekend of the exhibition in 27-30 April 2023.
URL:https://mscfin.fi/en/event/tom-of-finland-art-expo-opening-weekend/
LOCATION:TBAVENUENAME\, TBASTREETNAME\, TBACITYNAME\, TBAPOSTALCODE
END:VEVENT
BEGIN:VEVENT
DTSTART;VALUE=DATE:20230415
DTEND;VALUE=DATE:20230416
DTSTAMP:20260426T035226
CREATED:20230222T212648Z
LAST-MODIFIED:20230222T212648Z
UID:6655-1681516800-1681603199@mscfin.fi
SUMMARY:April Fetish Night
DESCRIPTION:MSC Finland April Fetish night will be at ClubX on Saturday 15th April 2023.
URL:https://mscfin.fi/en/event/april-fetish-night/
LOCATION:Club X\, Mäkelänkatu 54a\, Helsinki\, 00510\, Finland
END:VEVENT
BEGIN:VEVENT
DTSTART;VALUE=DATE:20230318
DTEND;VALUE=DATE:20230319
DTSTAMP:20260426T035226
CREATED:20230222T212654Z
LAST-MODIFIED:20230222T212654Z
UID:6656-1679097600-1679183999@mscfin.fi
SUMMARY:March Fetish Night
DESCRIPTION:MSC Finland March fetish night will be at ClubX on Saturday 18th March 2023.
URL:https://mscfin.fi/en/event/march-fetish-night/
LOCATION:Club X\, Mäkelänkatu 54a\, Helsinki\, 00510\, Finland
END:VEVENT
END:VCALENDAR