BEGIN:VCALENDAR
VERSION:2.0
PRODID:-//MSC Finland -Tom&#039;s Club - ECPv6.11.1//NONSGML v1.0//EN
CALSCALE:GREGORIAN
METHOD:PUBLISH
X-ORIGINAL-URL:https://mscfin.fi/en/
X-WR-CALDESC:Events for MSC Finland -Tom&#039;s Club
REFRESH-INTERVAL;VALUE=DURATION:PT1H
X-Robots-Tag:noindex
X-PUBLISHED-TTL:PT1H
BEGIN:VTIMEZONE
TZID:Europe/Helsinki
BEGIN:DAYLIGHT
TZOFFSETFROM:+0200
TZOFFSETTO:+0300
TZNAME:EEST
DTSTART:20260329T010000
END:DAYLIGHT
BEGIN:STANDARD
TZOFFSETFROM:+0300
TZOFFSETTO:+0200
TZNAME:EET
DTSTART:20261025T010000
END:STANDARD
END:VTIMEZONE
BEGIN:VEVENT
DTSTART;VALUE=DATE:20260220
DTEND;VALUE=DATE:20260223
DTSTAMP:20260423T114006
CREATED:20230106T162041Z
LAST-MODIFIED:20260216T100226Z
UID:6623-1771545600-1771804799@mscfin.fi
SUMMARY:Winterization 2026
DESCRIPTION:FRIDAY\, 20 FEBRUARY 2026\nMSC Finland Fetish Sauna \n@ClubX (Mäkelänkatu 54a) \nWelcome to enjoy an authentic Finnish sauna\, bring your own towel and bathing supplies. \nOnly for MSC /ECMC /ToE/ -members\, only for men \nDuring the sauna\, the Club X play facilities are for use. \nBring your own drinks (in moderation) \nTime:19:00 – 23:00 \nEntry: 10 € (we recommend card payment) \nRegistrations:  By 15 February at msc-info@mscfin.fi \nSATURDAY\, 21 FEBRUARY 2026\nMSC Fetish Lunch \nVenue: Restaurant Factory Kamppi (Runeberginkatu 3) \nTime: 13:00–14:30 \nPrice: 19.90 € (at own expense\, payment at the restaurant) \nRegistration: By 15 February at msc-info@mscfin.fi \nDress code: Fetish gear recommended \nScreening of Pillion \n16:10 at Cinema Orion\, Eerikinkatu 15. A photographer will be present.\nDress code: fetish\nThe event is organized in collaboration with Cinema Orion.\nTickets: €9.50 from https://cinemaorion.fi/en/lippuinfo/\nTickets are also available at the door before the screening. \nWinterization 11 Main Party & Revelation of Mr. Fetish Finland  2026 \nVenue: ClubX (Mäkelänkatu 54a) \nTime: 21:00–04:00 \nDoors open: 21:00–23:00 \n( 24:00 Revelation of Mr. Fetish Finland  2026) \nEntry: 15 € with MSC/ToE/ECMC/SMRF and Club X- card \n25 € for others (200 tickets available at the door) \nMen only \nDress code: Strictly enforced (leather\, rubber\, latex\, neoprene and sport gear\, skinheads\, worker\, puppies\, jocks\, dom & sub\, manly fetish denim) \nNo bar available; bring your own drinks. \nSUNDAY\, 22 FEBRUARY 2026\nMSC Fetish Brunch \nVenue: Restaurant Kaarti (Pohjoinen Hesperiankatu 33) \nTime: 13:00–14:30 \nPrice: 29 €/person (at own expense\, payment at the restaurant) \nRegistration: By 15 February at msc-info@mscfin.fi
URL:https://mscfin.fi/en/event/winterization-2026/
LOCATION:Club X\, Mäkelänkatu 54a\, Helsinki\, 00510\, Finland
END:VEVENT
BEGIN:VEVENT
DTSTART;VALUE=DATE:20260314
DTEND;VALUE=DATE:20260315
DTSTAMP:20260423T114006
CREATED:20250425T134208Z
LAST-MODIFIED:20260224T185814Z
UID:7099-1773446400-1773532799@mscfin.fi
SUMMARY:Rubberization 14 March 2026
DESCRIPTION:🔥 Doors open at 21:00\, last entry at 23:00.\n🎟 Entry 15€ with MSC/ToE/ECMC/SMRF and Club X- card\n20€ others\n🎉 Party goes on until 03:00. \n\n👕 Dresscode: Rubber (latex\, neoprene\, silicone) only. For example a catsuit\, surfsuit\, wetsuit\, drysuit. Footwear doesn’t have to be rubber\, leather boots and sneakers are acceptable.  Must have at least 50% body coverage\, just a rubber jockstrap is not acceptable. \n🍾 Bring your own drinks (in moderation).\n🛁 If you plan to shower\, bring your own towel.
URL:https://mscfin.fi/en/event/rubberization-14-march-2026/
LOCATION:Club X\, Mäkelänkatu 54a\, Helsinki\, 00510\, Finland
END:VEVENT
BEGIN:VEVENT
DTSTART;VALUE=DATE:20260328
DTEND;VALUE=DATE:20260329
DTSTAMP:20260423T114006
CREATED:20251209T201842Z
LAST-MODIFIED:20251209T202140Z
UID:7230-1774656000-1774742399@mscfin.fi
SUMMARY:Fetish Night 28 March 2026
DESCRIPTION:🔥 Doors open at 21:00\, last entry at 23:00.\n🎟 Entry 15€ with MSC/ToE/ECMC/SMRF and Club X- card\n20€ others\n🎉 Party goes on until 03:00.\n👕 Dresscode: Fetish MSC dress code (leather / rubber / uniforms / puppy / skinhead / sportswear / hiviz / construction / denim)\n🍾 Bring your own drinks (in moderation).\n🛁 If you plan to shower\, bring your own towel.
URL:https://mscfin.fi/en/event/fetish-night-28-march-2026/
LOCATION:Club X\, Mäkelänkatu 54a\, Helsinki\, 00510\, Finland
END:VEVENT
BEGIN:VEVENT
DTSTART;VALUE=DATE:20260418
DTEND;VALUE=DATE:20260419
DTSTAMP:20260423T114006
CREATED:20251209T202337Z
LAST-MODIFIED:20251209T202337Z
UID:7234-1776470400-1776556799@mscfin.fi
SUMMARY:Fetish Night 18 April 2026
DESCRIPTION:🔥 Doors open at 21:00\, last entry at 23:00.\n🎟 Entry 15€ with MSC/ToE/ECMC/SMRF and Club X- card\n20€ others\n🎉 Party goes on until 03:00.\n👕 Dresscode: Fetish MSC dress code (leather / rubber / uniforms / puppy / skinhead / sportswear / hiviz / construction / denim)\n🍾 Bring your own drinks (in moderation).\n🛁 If you plan to shower\, bring your own towel.
URL:https://mscfin.fi/en/event/fetish-night-18-april-2026/
LOCATION:Club X\, Mäkelänkatu 54a\, Helsinki\, 00510\, Finland
END:VEVENT
END:VCALENDAR