BEGIN:VCALENDAR
VERSION:2.0
PRODID:-//MSC Finland -Tom&#039;s Club - ECPv6.11.1//NONSGML v1.0//EN
CALSCALE:GREGORIAN
METHOD:PUBLISH
X-WR-CALNAME:MSC Finland -Tom&#039;s Club
X-ORIGINAL-URL:https://mscfin.fi/en/
X-WR-CALDESC:Events for MSC Finland -Tom&#039;s Club
REFRESH-INTERVAL;VALUE=DURATION:PT1H
X-Robots-Tag:noindex
X-PUBLISHED-TTL:PT1H
BEGIN:VTIMEZONE
TZID:Europe/Helsinki
BEGIN:DAYLIGHT
TZOFFSETFROM:+0200
TZOFFSETTO:+0300
TZNAME:EEST
DTSTART:20250330T010000
END:DAYLIGHT
BEGIN:STANDARD
TZOFFSETFROM:+0300
TZOFFSETTO:+0200
TZNAME:EET
DTSTART:20251026T010000
END:STANDARD
END:VTIMEZONE
BEGIN:VEVENT
DTSTART;VALUE=DATE:20251115
DTEND;VALUE=DATE:20251116
DTSTAMP:20260423T150946
CREATED:20250425T134254Z
LAST-MODIFIED:20251030T111133Z
UID:7098-1763164800-1763251199@mscfin.fi
SUMMARY:MSC Annual Meeting + Fetish Night 15 November
DESCRIPTION:MSC Annual Meeting\nMSC Autumn Meeting on November 15\, 2025\, at ClubX (Mäkelänkatu 54 A 203\, Helsinki)\nThe MSC Autumn Meeting at ClubX will begin at 6:30 p.m. and is expected to last until around 8:30 p.m.\nPlease bring your MSC membership card for membership verification\, which will begin at 6:00 p.m.\nThe official autumn meeting invitation with attachments will be sent to members as a membership letter. \nFetish Night 15 November\n🔥 Doors open at 21:00\, last entry at 23:00.\n🎟 Entry 15€ with MSC/ToE/ECMC/SMRF and Club X- card\n20€ others\n🎉 Party goes on until 03:00.\n👕 Dresscode: Fetish MSC dress code (leather / rubber / uniforms / puppy / skinhead / sportswear / hiviz / construction / denim)\n🍾 Bring your own drinks (in moderation).\n🛁 If you plan to shower\, bring your own towel.
URL:https://mscfin.fi/en/event/fetish-night-15-november/
LOCATION:Club X\, Mäkelänkatu 54a\, Helsinki\, 00510\, Finland
END:VEVENT
END:VCALENDAR