BEGIN:VCALENDAR
VERSION:2.0
PRODID:-//MSC FINLAND - TOM&#039;S CLUB - ECPv6.11.1//NONSGML v1.0//EN
CALSCALE:GREGORIAN
METHOD:PUBLISH
X-WR-CALNAME:MSC FINLAND - TOM&#039;S CLUB
X-ORIGINAL-URL:https://mscfin.fi
X-WR-CALDESC:Events for MSC FINLAND - TOM&#039;S CLUB
REFRESH-INTERVAL;VALUE=DURATION:PT1H
X-Robots-Tag:noindex
X-PUBLISHED-TTL:PT1H
BEGIN:VTIMEZONE
TZID:Europe/Helsinki
BEGIN:DAYLIGHT
TZOFFSETFROM:+0200
TZOFFSETTO:+0300
TZNAME:EEST
DTSTART:20260329T010000
END:DAYLIGHT
BEGIN:STANDARD
TZOFFSETFROM:+0300
TZOFFSETTO:+0200
TZNAME:EET
DTSTART:20261025T010000
END:STANDARD
END:VTIMEZONE
BEGIN:VEVENT
DTSTART;VALUE=DATE:20260110
DTEND;VALUE=DATE:20260111
DTSTAMP:20260423T131601
CREATED:20250827T094952Z
LAST-MODIFIED:20251209T201036Z
UID:7187-1768003200-1768089599@mscfin.fi
SUMMARY:Fetish Night 10 tammikuuta 2026
DESCRIPTION:🔥 Ovet avautuvat klo 21.00\, sisäänpääsy klo 21.00-23.00.\n🎟 sisäänpääsy 15€  MSC/ToE/ECMC/SMRF and Club X- kortti\, 20€ muut\n🎉 Bileet jatkuvat aina klo 03.00 asti.\n👕 Dresscode: Fetish MSC dress code (leather / rubber / uniforms / puppy / skinhead / sportswear / hiviz / construction / denim)\n🍾 Ota omat juomat kohtuudella mukaan.\n🛁 Jos haluat peseytyä\, muista tuoda oma pyyhe. \nTervetuloa!
URL:https://mscfin.fi/event/fetish-night-10-tammikuuta-2026/
LOCATION:Club X\, Mäkelänkatu 54a\, Helsinki\, 00510\, Finland
END:VEVENT
BEGIN:VEVENT
DTSTART;VALUE=DATE:20260220
DTEND;VALUE=DATE:20260223
DTSTAMP:20260423T131601
CREATED:20251209T201631Z
LAST-MODIFIED:20260216T100247Z
UID:7227-1771545600-1771804799@mscfin.fi
SUMMARY:Winterization 2026
DESCRIPTION:PERJANTAI 20. HELMIKUUTA 2026\nMSC Finland Fetish Sauna \n@ ClubX (Mäkelänkatu 54a)- Tervetuloa nauttimaan aidosta suomalaisesta saunasta\, ota mukaan oma pyyhe ja peseytymistarvikkeet. \n– Vain MSC /ECMC /ToE/ -jäsenille. Miesten sauna \n– Illan aikana Club X tilat ovat käytössämme. \n– Omia juomia voi ottaa kohtuudella mukaan \n– Aika: 19:00 – 23:00 \n– Sisään: 10 €  (suosittelemme kortti maksua) \n– Ilmoittautumiset 15. helmikuuta mennessä: msc-info@mscfin.fi \nLAUANTAI 21. HELMIKUUTA 2026\nMSC Fetissilounas \nPaikka: Ravintola Factory Kamppi (Runeberginkatu 3) \nAika: 13:00–14:30 \nHinta: 19\,90 € (omakustanteinen\, maksu ravintolassa) \nIlmoittautuminen: 15. helmikuuta mennessä osoitteeseen msc-info@mscfin.fi \nPukukoodi: Fetissiasu suositeltu \nPillion-elokuva \nklo 16:10 Cinema Orion\, Eerikinkatu 15. Paikalla valokuvaaja.\nDresscode: fetish\nTilaisuus järjestetään yhteistyössä Cinema Orionin kanssa.\nLiput: 9\,50 €  – https://cinemaorion.fi/en/lippuinfo/\nLippuja voi ostaa myös ovelta ennen elokuvaa \nWinterization 11 Pääjuhla & Mr. Fetish Finland 2026:n julkistaminen\nPaikka: ClubX (Mäkelänkatu 54a) \nAika: 21:00–04:00 \nOvet auki: 21:00–23:00 \n(klo 24:00    Mr. Fetish Finland 2026:n julkistaminen) \nPääsymaksu: \n15 € MSC/ToE/ECMC/SMRF- ja Club X -kortilla \n 25 € muille (200 lippua saatavilla ovelta) \nVain miehille \nPukukoodi: Tiukasti valvottu (nahka\, kumi\, lateksi\, neopreeni\, urheiluvarusteet\, skinhead-tyyli\, työasut\, puppies\, jockstrapit\, dom & sub\, maskuliiniset fetissifarkut) \nEi baaria; tuo omat juomat kohtuudella. \nSUNNUNTAI 22. HELMIKUUTA 2026\nMSC Fetissibrunssi \nPaikka: Ravintola Kaarti (Pohjoinen Hesperiankatu 33) \nAika: 13:00–14:30 \nHinta: 29 €/henkilö (omakustanteinen\, maksu ravintolassa) \nIlmoittautuminen: 15. helmikuuta mennessä osoitteeseen msc-info@mscfin.fi
URL:https://mscfin.fi/event/winterization-2026/
LOCATION:Club X\, Mäkelänkatu 54a\, Helsinki\, 00510\, Finland
END:VEVENT
BEGIN:VEVENT
DTSTART;VALUE=DATE:20260314
DTEND;VALUE=DATE:20260315
DTSTAMP:20260423T131601
CREATED:20250425T134208Z
LAST-MODIFIED:20260224T185717Z
UID:7089-1773446400-1773532799@mscfin.fi
SUMMARY:Rubberization 14 maaliskuuta 2026
DESCRIPTION:🔥 Ovet avautuvat klo 21.00\, sisäänpääsy klo 21.00-23.00.\n🎟 sisäänpääsy 15€  MSC/ToE/ECMC/SMRF and Club X- kortti\, 20€ muut\n🎉 Bileet jatkuvat aina klo 03.00 asti. \n👕 Dresscode: Kumiasu (lateksia\, neopreenia tai silikonia). Esimerkiksi catsuit\, surfsuit\, märkäpuku\, kuivapuku. Jalkineiden ei tarvitse olla kumia\, maiharit\, sneakers\, etc. on ok. Vähintään 50% kehosta tulee olla peitetty\, esim. pelkkä kuminen jockstrap ei ole hyväksyttävä. \n🍾 Ota omat juomat kohtuudella mukaan.\n🛁 Jos haluat peseytyä\, muista tuoda oma pyyhe. \nTervetuloa!
URL:https://mscfin.fi/event/rubberization-14-maaliskuuta-2026/
LOCATION:Club X\, Mäkelänkatu 54a\, Helsinki\, 00510\, Finland
END:VEVENT
BEGIN:VEVENT
DTSTART;VALUE=DATE:20260328
DTEND;VALUE=DATE:20260329
DTSTAMP:20260423T131601
CREATED:20250407T211502Z
LAST-MODIFIED:20251209T202042Z
UID:6992-1774656000-1774742399@mscfin.fi
SUMMARY:Fetish Night 28 maaliskuuta 2026
DESCRIPTION:🔥 Ovet avautuvat klo 21.00\, sisäänpääsy klo 21.00-23.00.\n🎟 sisäänpääsy 15€  MSC/ToE/ECMC/SMRF and Club X- kortti\, 20€ muut\n🎉 Bileet jatkuvat aina klo 03.00 asti.\n👕 Dresscode: Fetish MSC dress code (leather / rubber / uniforms / puppy / skinhead / sportswear / hiviz / construction / denim)\n🍾 Ota omat juomat kohtuudella mukaan.\n🛁 Jos haluat peseytyä\, muista tuoda oma pyyhe. \nTervetuloa!
URL:https://mscfin.fi/event/fetish-night-28-maaliskuuta-2026/
LOCATION:Club X\, Mäkelänkatu 54a\, Helsinki\, 00510\, Finland
END:VEVENT
BEGIN:VEVENT
DTSTART;VALUE=DATE:20260418
DTEND;VALUE=DATE:20260419
DTSTAMP:20260423T131601
CREATED:20251209T202428Z
LAST-MODIFIED:20251209T202428Z
UID:7236-1776470400-1776556799@mscfin.fi
SUMMARY:Fetish Night 18 huhtikuuta 2026
DESCRIPTION:🔥 Ovet avautuvat klo 21.00\, sisäänpääsy klo 21.00-23.00.\n🎟 sisäänpääsy 15€  MSC/ToE/ECMC/SMRF and Club X- kortti\, 20€ muut\n🎉 Bileet jatkuvat aina klo 03.00 asti.\n👕 Dresscode: Fetish MSC dress code (leather / rubber / uniforms / puppy / skinhead / sportswear / hiviz / construction / denim)\n🍾 Ota omat juomat kohtuudella mukaan.\n🛁 Jos haluat peseytyä\, muista tuoda oma pyyhe. \nTervetuloa!
URL:https://mscfin.fi/event/fetish-night-18-huhtikuuta-2026/
LOCATION:Club X\, Mäkelänkatu 54a\, Helsinki\, 00510\, Finland
END:VEVENT
END:VCALENDAR