BEGIN:VCALENDAR
VERSION:2.0
PRODID:-//MSC FINLAND - TOM&#039;S CLUB - ECPv6.11.1//NONSGML v1.0//EN
CALSCALE:GREGORIAN
METHOD:PUBLISH
X-WR-CALNAME:MSC FINLAND - TOM&#039;S CLUB
X-ORIGINAL-URL:https://mscfin.fi
X-WR-CALDESC:Events for MSC FINLAND - TOM&#039;S CLUB
REFRESH-INTERVAL;VALUE=DURATION:PT1H
X-Robots-Tag:noindex
X-PUBLISHED-TTL:PT1H
BEGIN:VTIMEZONE
TZID:Europe/Helsinki
BEGIN:DAYLIGHT
TZOFFSETFROM:+0200
TZOFFSETTO:+0300
TZNAME:EEST
DTSTART:20250330T010000
END:DAYLIGHT
BEGIN:STANDARD
TZOFFSETFROM:+0300
TZOFFSETTO:+0200
TZNAME:EET
DTSTART:20251026T010000
END:STANDARD
END:VTIMEZONE
BEGIN:VEVENT
DTSTART;VALUE=DATE:20251206
DTEND;VALUE=DATE:20251207
DTSTAMP:20260423T132141
CREATED:20250425T134329Z
LAST-MODIFIED:20250425T134329Z
UID:7093-1764979200-1765065599@mscfin.fi
SUMMARY:Fetish Night + Christmas Party 6 December
DESCRIPTION:(details to be announced)
URL:https://mscfin.fi/event/fetish-night-christmas-party-6-december/
LOCATION:Club X\, Mäkelänkatu 54a\, Helsinki\, 00510\, Finland
END:VEVENT
END:VCALENDAR